BEGIN:VCALENDAR
VERSION:2.0
PRODID:-//Smart FOX - ECPv6.15.20//NONSGML v1.0//EN
CALSCALE:GREGORIAN
METHOD:PUBLISH
X-WR-CALNAME:Smart FOX
X-ORIGINAL-URL:https://www.smart-fox.at
X-WR-CALDESC:Veranstaltungen für Smart FOX
REFRESH-INTERVAL;VALUE=DURATION:PT1H
X-Robots-Tag:noindex
X-PUBLISHED-TTL:PT1H
BEGIN:VTIMEZONE
TZID:Europe/Vienna
BEGIN:DAYLIGHT
TZOFFSETFROM:+0100
TZOFFSETTO:+0200
TZNAME:CEST
DTSTART:20250330T010000
END:DAYLIGHT
BEGIN:STANDARD
TZOFFSETFROM:+0200
TZOFFSETTO:+0100
TZNAME:CET
DTSTART:20251026T010000
END:STANDARD
BEGIN:DAYLIGHT
TZOFFSETFROM:+0100
TZOFFSETTO:+0200
TZNAME:CEST
DTSTART:20260329T010000
END:DAYLIGHT
BEGIN:STANDARD
TZOFFSETFROM:+0200
TZOFFSETTO:+0100
TZNAME:CET
DTSTART:20261025T010000
END:STANDARD
BEGIN:DAYLIGHT
TZOFFSETFROM:+0100
TZOFFSETTO:+0200
TZNAME:CEST
DTSTART:20270328T010000
END:DAYLIGHT
BEGIN:STANDARD
TZOFFSETFROM:+0200
TZOFFSETTO:+0100
TZNAME:CET
DTSTART:20271031T010000
END:STANDARD
END:VTIMEZONE
BEGIN:VEVENT
DTSTART;TZID=Europe/Vienna:20260220T130000
DTEND;TZID=Europe/Vienna:20260220T170000
DTSTAMP:20260422T144114
CREATED:20260128T122851Z
LAST-MODIFIED:20260128T122851Z
UID:5725-1771592400-1771606800@www.smart-fox.at
SUMMARY:Digital Health Symposium 2026
DESCRIPTION:Das Digital Health Symposium findet am 20. Februar 2026 von 13–17 Uhr in Klagenfurt statt und wird von der Universität Klagenfurt und der FH Kärnten veranstaltet. Im Fokus stehen aktuelle Entwicklungen sowie Herausforderungen der digitalen Transformation im Gesundheitswesen mit Beiträgen aus Wissenschaft\, Medizin und Technologie.
URL:https://www.smart-fox.at/event/digital-health-symposium-2026/
LOCATION:Universtität Klagenfurt\, Hörsaal B\, Universitätsstraße 65-67\, Klagenfurt\, 9020\, Austria
ATTACH;FMTTYPE=image/jpeg:https://www.smart-fox.at/wp-content/uploads/2026/01/EinladungDigitalHealthSymposium-1-1126x800-1-e1769603269118.jpg
END:VEVENT
END:VCALENDAR